BEGIN:VCALENDAR
VERSION:2.0
PRODID:-//Leo Hayes High School - ECPv6.15.20//NONSGML v1.0//EN
CALSCALE:GREGORIAN
METHOD:PUBLISH
X-WR-CALNAME:Leo Hayes High School
X-ORIGINAL-URL:https://leohayeshigh.nbed.ca
X-WR-CALDESC:Events for Leo Hayes High School
REFRESH-INTERVAL;VALUE=DURATION:PT1H
X-Robots-Tag:noindex
X-PUBLISHED-TTL:PT1H
BEGIN:VTIMEZONE
TZID:America/Toronto
BEGIN:DAYLIGHT
TZOFFSETFROM:-0500
TZOFFSETTO:-0400
TZNAME:EDT
DTSTART:20240310T070000
END:DAYLIGHT
BEGIN:STANDARD
TZOFFSETFROM:-0400
TZOFFSETTO:-0500
TZNAME:EST
DTSTART:20241103T060000
END:STANDARD
BEGIN:DAYLIGHT
TZOFFSETFROM:-0500
TZOFFSETTO:-0400
TZNAME:EDT
DTSTART:20250309T070000
END:DAYLIGHT
BEGIN:STANDARD
TZOFFSETFROM:-0400
TZOFFSETTO:-0500
TZNAME:EST
DTSTART:20251102T060000
END:STANDARD
BEGIN:DAYLIGHT
TZOFFSETFROM:-0500
TZOFFSETTO:-0400
TZNAME:EDT
DTSTART:20260308T070000
END:DAYLIGHT
BEGIN:STANDARD
TZOFFSETFROM:-0400
TZOFFSETTO:-0500
TZNAME:EST
DTSTART:20261101T060000
END:STANDARD
END:VTIMEZONE
BEGIN:VEVENT
DTSTART;TZID=America/Toronto:20251202T084000
DTEND;TZID=America/Toronto:20251202T150000
DTSTAMP:20260425T212038
CREATED:20250903T124754Z
LAST-MODIFIED:20250903T124756Z
UID:10000240-1764664800-1764687600@leohayeshigh.nbed.ca
SUMMARY:Grade 9 Immunization Clinic
DESCRIPTION:
URL:https://leohayeshigh.nbed.ca/calendar/grade-9-immunization-clinic-2/
END:VEVENT
BEGIN:VEVENT
DTSTART;TZID=America/Toronto:20251210T190000
DTEND;TZID=America/Toronto:20251210T200000
DTSTAMP:20260425T212038
CREATED:20251210T132222Z
LAST-MODIFIED:20251210T132225Z
UID:10000634-1765393200-1765396800@leohayeshigh.nbed.ca
SUMMARY:Music Dept Christmas Concert
DESCRIPTION:
URL:https://leohayeshigh.nbed.ca/calendar/music-dept-christmas-concert-2/
END:VEVENT
BEGIN:VEVENT
DTSTART;TZID=America/Toronto:20251213T080000
DTEND;TZID=America/Toronto:20251213T103000
DTSTAMP:20260425T212038
CREATED:20251208T133220Z
LAST-MODIFIED:20251210T132050Z
UID:10000633-1765612800-1765621800@leohayeshigh.nbed.ca
SUMMARY:Safe Grad Breakfast Fundraiser
DESCRIPTION:At Willie O’Ree
URL:https://leohayeshigh.nbed.ca/calendar/safe-grad-breakfast-fundraiser/
END:VEVENT
BEGIN:VEVENT
DTSTART;TZID=America/Toronto:20251219T080000
DTEND;TZID=America/Toronto:20251219T170000
DTSTAMP:20260425T212038
CREATED:20250903T124833Z
LAST-MODIFIED:20250903T124835Z
UID:10000241-1766131200-1766163600@leohayeshigh.nbed.ca
SUMMARY:Last day before Christmas break
DESCRIPTION:
URL:https://leohayeshigh.nbed.ca/calendar/last-day-before-christmas-break/
END:VEVENT
BEGIN:VEVENT
DTSTART;TZID=America/Toronto:20251222T080000
DTEND;TZID=America/Toronto:20251222T170000
DTSTAMP:20260425T212038
CREATED:20250905T144047Z
LAST-MODIFIED:20250905T144049Z
UID:10000256-1766390400-1766422800@leohayeshigh.nbed.ca
SUMMARY:Christmas Break
DESCRIPTION:
URL:https://leohayeshigh.nbed.ca/calendar/christmas-break/2025-12-22/
END:VEVENT
BEGIN:VEVENT
DTSTART;TZID=America/Toronto:20251223T080000
DTEND;TZID=America/Toronto:20251223T170000
DTSTAMP:20260425T212038
CREATED:20250905T144047Z
LAST-MODIFIED:20250905T144049Z
UID:10000257-1766476800-1766509200@leohayeshigh.nbed.ca
SUMMARY:Christmas Break
DESCRIPTION:
URL:https://leohayeshigh.nbed.ca/calendar/christmas-break/2025-12-23/
END:VEVENT
BEGIN:VEVENT
DTSTART;TZID=America/Toronto:20251224T080000
DTEND;TZID=America/Toronto:20251224T170000
DTSTAMP:20260425T212038
CREATED:20250905T144047Z
LAST-MODIFIED:20250905T144049Z
UID:10000258-1766563200-1766595600@leohayeshigh.nbed.ca
SUMMARY:Christmas Break
DESCRIPTION:
URL:https://leohayeshigh.nbed.ca/calendar/christmas-break/2025-12-24/
END:VEVENT
BEGIN:VEVENT
DTSTART;TZID=America/Toronto:20251225T080000
DTEND;TZID=America/Toronto:20251225T170000
DTSTAMP:20260425T212038
CREATED:20250905T144047Z
LAST-MODIFIED:20250905T144049Z
UID:10000259-1766649600-1766682000@leohayeshigh.nbed.ca
SUMMARY:Christmas Break
DESCRIPTION:
URL:https://leohayeshigh.nbed.ca/calendar/christmas-break/2025-12-25/
END:VEVENT
BEGIN:VEVENT
DTSTART;TZID=America/Toronto:20251226T080000
DTEND;TZID=America/Toronto:20251226T170000
DTSTAMP:20260425T212038
CREATED:20250905T144047Z
LAST-MODIFIED:20250905T144049Z
UID:10000260-1766736000-1766768400@leohayeshigh.nbed.ca
SUMMARY:Christmas Break
DESCRIPTION:
URL:https://leohayeshigh.nbed.ca/calendar/christmas-break/2025-12-26/
END:VEVENT
BEGIN:VEVENT
DTSTART;TZID=America/Toronto:20251227T080000
DTEND;TZID=America/Toronto:20251227T170000
DTSTAMP:20260425T212038
CREATED:20250905T144047Z
LAST-MODIFIED:20250905T144049Z
UID:10000261-1766822400-1766854800@leohayeshigh.nbed.ca
SUMMARY:Christmas Break
DESCRIPTION:
URL:https://leohayeshigh.nbed.ca/calendar/christmas-break/2025-12-27/
END:VEVENT
BEGIN:VEVENT
DTSTART;TZID=America/Toronto:20251228T080000
DTEND;TZID=America/Toronto:20251228T170000
DTSTAMP:20260425T212038
CREATED:20250905T144047Z
LAST-MODIFIED:20250905T144049Z
UID:10000262-1766908800-1766941200@leohayeshigh.nbed.ca
SUMMARY:Christmas Break
DESCRIPTION:
URL:https://leohayeshigh.nbed.ca/calendar/christmas-break/2025-12-28/
END:VEVENT
BEGIN:VEVENT
DTSTART;TZID=America/Toronto:20251229T080000
DTEND;TZID=America/Toronto:20251229T170000
DTSTAMP:20260425T212038
CREATED:20250905T144047Z
LAST-MODIFIED:20250905T144049Z
UID:10000263-1766995200-1767027600@leohayeshigh.nbed.ca
SUMMARY:Christmas Break
DESCRIPTION:
URL:https://leohayeshigh.nbed.ca/calendar/christmas-break/2025-12-29/
END:VEVENT
BEGIN:VEVENT
DTSTART;TZID=America/Toronto:20251230T080000
DTEND;TZID=America/Toronto:20251230T170000
DTSTAMP:20260425T212038
CREATED:20250905T144047Z
LAST-MODIFIED:20250905T144049Z
UID:10000264-1767081600-1767114000@leohayeshigh.nbed.ca
SUMMARY:Christmas Break
DESCRIPTION:
URL:https://leohayeshigh.nbed.ca/calendar/christmas-break/2025-12-30/
END:VEVENT
BEGIN:VEVENT
DTSTART;TZID=America/Toronto:20251231T080000
DTEND;TZID=America/Toronto:20251231T170000
DTSTAMP:20260425T212038
CREATED:20250905T144047Z
LAST-MODIFIED:20250905T144049Z
UID:10000265-1767168000-1767200400@leohayeshigh.nbed.ca
SUMMARY:Christmas Break
DESCRIPTION:
URL:https://leohayeshigh.nbed.ca/calendar/christmas-break/2025-12-31/
END:VEVENT
END:VCALENDAR